BEGIN:VCALENDAR
VERSION:2.0
PRODID:-//Weyburn Tourism - ECPv6.15.18//NONSGML v1.0//EN
CALSCALE:GREGORIAN
METHOD:PUBLISH
X-WR-CALNAME:Weyburn Tourism
X-ORIGINAL-URL:https://weyburntourism.com
X-WR-CALDESC:Events for Weyburn Tourism
REFRESH-INTERVAL;VALUE=DURATION:PT1H
X-Robots-Tag:noindex
X-PUBLISHED-TTL:PT1H
BEGIN:VTIMEZONE
TZID:America/Regina
BEGIN:STANDARD
TZOFFSETFROM:-0600
TZOFFSETTO:-0600
TZNAME:CST
DTSTART:20250101T000000
END:STANDARD
END:VTIMEZONE
BEGIN:VEVENT
DTSTART;TZID=America/Regina:20260424T080000
DTEND;TZID=America/Regina:20260425T170000
DTSTAMP:20260424T082705
CREATED:20260331T201428Z
LAST-MODIFIED:20260331T201428Z
UID:2009-1777017600-1777136400@weyburntourism.com
SUMMARY:Sewfari Quilt Show
DESCRIPTION:April 24\, 2026: 4:00 – 8:00pm \nApril 25\, 2026: 9:00am – 4:00pm \nAdults – $5\, Children – Free with an adult \nSafari Bingo | Basket and Penny Parade | Demonstrations | Concession onsite | Over 200 entries!
URL:https://weyburntourism.com/event/sewfari-quilt-show/
LOCATION:Weyburn Ag Society Exhibition Hall\, Weyburn\, SK\, Canada
ATTACH;FMTTYPE=image/png:https://weyburntourism.com/wp-content/uploads/2026/03/WT-Website-7.png
END:VEVENT
BEGIN:VEVENT
DTSTART;TZID=America/Regina:20260424T123000
DTEND;TZID=America/Regina:20260425T170000
DTSTAMP:20260424T082706
CREATED:20260318T222834Z
LAST-MODIFIED:20260318T222834Z
UID:1975-1777033800-1777136400@weyburntourism.com
SUMMARY:Weyburn Holistic Health Expo
DESCRIPTION:Presented by Deanne Garven (Pure Harmony Natural Healing) and Carly Du Clinical Hypnotherapy \nFriday April 24\, 2026 – 12:30pm-5:00pm \nSaturday April 25\, 2026 – 10am – 5pm \nClick here for my information about this event.
URL:https://weyburntourism.com/event/weyburn-holistic-health-expo/
LOCATION:136 – 2nd Street Knox Hall\, 136 - 2nd Street\, Weyburn\, Saskatchewan\, Canada
ATTACH;FMTTYPE=image/png:https://weyburntourism.com/wp-content/uploads/2026/03/WT-Website-1.png
END:VEVENT
END:VCALENDAR