BEGIN:VCALENDAR
VERSION:2.0
PRODID:-//Weyburn Tourism - ECPv6.15.18//NONSGML v1.0//EN
CALSCALE:GREGORIAN
METHOD:PUBLISH
X-ORIGINAL-URL:https://weyburntourism.com
X-WR-CALDESC:Events for Weyburn Tourism
REFRESH-INTERVAL;VALUE=DURATION:PT1H
X-Robots-Tag:noindex
X-PUBLISHED-TTL:PT1H
BEGIN:VTIMEZONE
TZID:America/Regina
BEGIN:STANDARD
TZOFFSETFROM:-0600
TZOFFSETTO:-0600
TZNAME:CST
DTSTART:20250101T000000
END:STANDARD
END:VTIMEZONE
BEGIN:VEVENT
DTSTART;TZID=America/Regina:20260506T193000
DTEND;TZID=America/Regina:20260506T223000
DTSTAMP:20260424T112114
CREATED:20250815T214004Z
LAST-MODIFIED:20250815T214004Z
UID:1736-1778095800-1778106600@weyburntourism.com
SUMMARY:Trevor Panczak: Genius of the Gentle Giant - The Music of Don Williams
DESCRIPTION:Trevor Panczak is a Canadian country music entertainer who is no stranger to the stage. As an original artist\, he has 4 top 50 hits and 1 top 40 hit in Canada. He has toured from the country and has helped raise hundreds of thousands of dollars for various charities. Known in some circles as Canada’s “Gentle Giant”\, Trevor and his band share familiar renditions and new interpretations of the music of one of the most beloved country artists of all time. The original “Gentle Giant”\, Don Williams has 17 number one singles amount 50 top ten hits. Some of the first songs Trevor learned on guitar were of Dona Williams and it all came full circle when Trevor was give the opportunity to open all the shows on Williams’ final Canadian tour. Trevor will take you through the decades of hits with touching stories of the relationship to not only the songs\, but to the man himself\, in a way that only Trevor can do. \nwwwClick here for more information | Get your tickets here!
URL:https://weyburntourism.com/event/trevor-panczak-genius-of-the-gentle-giant-the-music-of-don-williams/
LOCATION:Cugnet Centre\, 629 King Street\, Weyburn\, Canada
ATTACH;FMTTYPE=image/png:https://weyburntourism.com/wp-content/uploads/2025/08/TrevorP.png
END:VEVENT
END:VCALENDAR