BEGIN:VCALENDAR
VERSION:2.0
PRODID:-//Weyburn Tourism - ECPv6.15.18//NONSGML v1.0//EN
CALSCALE:GREGORIAN
METHOD:PUBLISH
X-WR-CALNAME:Weyburn Tourism
X-ORIGINAL-URL:https://weyburntourism.com
X-WR-CALDESC:Events for Weyburn Tourism
REFRESH-INTERVAL;VALUE=DURATION:PT1H
X-Robots-Tag:noindex
X-PUBLISHED-TTL:PT1H
BEGIN:VTIMEZONE
TZID:America/Regina
BEGIN:STANDARD
TZOFFSETFROM:-0600
TZOFFSETTO:-0600
TZNAME:CST
DTSTART:20250101T000000
END:STANDARD
END:VTIMEZONE
BEGIN:VEVENT
DTSTART;VALUE=DATE:20260509
DTEND;VALUE=DATE:20260510
DTSTAMP:20260424T113240
CREATED:20260326T202708Z
LAST-MODIFIED:20260326T202708Z
UID:1986-1778284800-1778371199@weyburntourism.com
SUMMARY:Bloom
DESCRIPTION:Bloom is a women’s empowerment event designed to inspire\, uplift\, and motivate women at all stages of life. Initiated in 2025\, this day-long event aims to help women reconnect with their passions\, discover new interests\, and “bloom” into their best selves all while supporting local.  \nBloom Itinerary \nCheck-in & Greetings: 8:30am – 9:00am (Royal Canadian Legion) \nSession 1 9:20am – 10:20am \nSession 2  10:40am – 11:40am \nLunch & Guest Speaker  12:00pm – 2:00pm (Royal Canadian Legion) \nSession 3 2:20pm – 3:20pm \nSession 4  3:40pm – 4:40pm \nAfter Party 5:00pm (Another Round Sports Bar) \nTickets go on sale on April 1\, 2026! Click here to snag your tickets. 
URL:https://weyburntourism.com/event/bloom/
LOCATION:Royal Canadian Legion\, 150 - 3rd Street\, Weyburn\, Saskatchewan\, Canada
ATTACH;FMTTYPE=image/png:https://weyburntourism.com/wp-content/uploads/2026/03/WT-Website-3.png
END:VEVENT
END:VCALENDAR