BEGIN:VCALENDAR
VERSION:2.0
PRODID:-//Weyburn Tourism - ECPv6.15.18//NONSGML v1.0//EN
CALSCALE:GREGORIAN
METHOD:PUBLISH
X-ORIGINAL-URL:https://weyburntourism.com
X-WR-CALDESC:Events for Weyburn Tourism
REFRESH-INTERVAL;VALUE=DURATION:PT1H
X-Robots-Tag:noindex
X-PUBLISHED-TTL:PT1H
BEGIN:VTIMEZONE
TZID:America/Regina
BEGIN:STANDARD
TZOFFSETFROM:-0600
TZOFFSETTO:-0600
TZNAME:CST
DTSTART:20250101T000000
END:STANDARD
END:VTIMEZONE
BEGIN:VEVENT
DTSTART;TZID=America/Regina:20260602T160000
DTEND;TZID=America/Regina:20260602T190000
DTSTAMP:20260424T112218
CREATED:20260331T215658Z
LAST-MODIFIED:20260331T215658Z
UID:2021-1780416000-1780426800@weyburntourism.com
SUMMARY:Outlaw Buckers & Oil Kings Match Bronc Riding
DESCRIPTION:Presented by\, and in conjunction with the 2026 Saskatchewan Oil and Gas Show\, the Outlaw Buckers and Oil Kings Match Bronc Riding (The OBOK) is a thrilling “Stampede Experience” for rodeo fans and businesses alike. The OBOK features 30 of the top ranked\, professional saddle bronc riders from across North America battling it out against the extraordinary bucking horses of The Calgary Stampede Ranch\, C5 Rodeo and the Outlaw Buckers Rodeo Corp. This professionally sanctioned event promises to mirror the intensity of some of the largest and most well known rodeos in the world.  \nClick here to purchase tickets.
URL:https://weyburntourism.com/event/outlaw-buckers-oil-kings-match-bronc-riding-2/
LOCATION:Weyburn Exhibition Grounds\, Weyburn\, Saskatchewan\, Canada
ATTACH;FMTTYPE=image/png:https://weyburntourism.com/wp-content/uploads/2026/03/BroncRiding.png
END:VEVENT
END:VCALENDAR