BEGIN:VCALENDAR
VERSION:2.0
PRODID:-//Weyburn Tourism - ECPv6.15.18//NONSGML v1.0//EN
CALSCALE:GREGORIAN
METHOD:PUBLISH
X-ORIGINAL-URL:https://weyburntourism.com
X-WR-CALDESC:Events for Weyburn Tourism
REFRESH-INTERVAL;VALUE=DURATION:PT1H
X-Robots-Tag:noindex
X-PUBLISHED-TTL:PT1H
BEGIN:VTIMEZONE
TZID:America/Regina
BEGIN:STANDARD
TZOFFSETFROM:-0600
TZOFFSETTO:-0600
TZNAME:CST
DTSTART:20250101T000000
END:STANDARD
END:VTIMEZONE
BEGIN:VEVENT
DTSTART;VALUE=DATE:20260603
DTEND;VALUE=DATE:20260605
DTSTAMP:20260424T112819
CREATED:20260331T220125Z
LAST-MODIFIED:20260331T220125Z
UID:2024-1780444800-1780617599@weyburntourism.com
SUMMARY:Saskatchewan Oil & Gas Show
DESCRIPTION:Saskatchewan Oil and Gas Show is the premier event of its type!  The Weyburn exhibition grounds are filled with indoor and outdoor exhibits showing everything from service rigs to secondary containment. \nThe biennial event held in Weyburn\, provides an opportunity for the service and supply segment of the industry to display their products and latest technology applicable to the Oil & Gas Industry!  \nThe show regularly draws important speakers who share valuable perspectives on the state of the industry and Saskatchewan’s place in it. An important theme of the show is that Saskatchewan is no longer a basic producer\, but prepared to become an important industry actor\, in North America and globally! \nFor more information\, click here
URL:https://weyburntourism.com/event/saskatchewan-oil-gas-show-2/
LOCATION:Whitecap Resources Centre\, 327 Mergens Street\, Weyburn\, Saskatchewan\, S4H 2K6\, Canada
ATTACH;FMTTYPE=image/png:https://weyburntourism.com/wp-content/uploads/2026/03/OilShow.png
ORGANIZER;CN="Saskatchewan Oil & Gas Show Board":MAILTO:info@saskoilshow.com
END:VEVENT
END:VCALENDAR